BEGIN:VCALENDAR
VERSION:2.0
METHOD:PUBLISH
PRODID:-//imacoda.com//SPD-Web-O-Mat//EN
CALSCALE:GREGORIAN
BEGIN:VTIMEZONE
TZID:Europe/Berlin
BEGIN:DAYLIGHT
TZOFFSETFROM:+0100
RRULE:FREQ=YEARLY;BYMONTH=3;BYDAY=-1SU
DTSTART:19810329T020000
TZNAME:MESZ
TZOFFSETTO:+0200
END:DAYLIGHT
BEGIN:STANDARD
TZOFFSETFROM:+0200
RRULE:FREQ=YEARLY;BYMONTH=10;BYDAY=-1SU
DTSTART:19961027T030000
TZNAME:MEZ
TZOFFSETTO:+0100
END:STANDARD
END:VTIMEZONE
BEGIN:VEVENT
UID:20230301T161650Z-00000898706-LULU@www.bayernspd.de
CREATED:20230301T161650Z
LAST-MODIFIED:20230301T162239Z
DTSTAMP:20230301T162239Z
TRANSP:TRANSPARENT
DTSTART;TZID=Europe/Berlin:20230926T083000
DTEND;TZID=Europe/Berlin:20230926T083000
SUMMARY:Fraktion: Kreisausschuss
LOCATION:Landratsamt Fürth\, Zirndorf: Im Pinderpark 2
DESCRIPTION:Termin im Web (SPD-Kreisverband Fürth-Land):\nhttps://spd-fu
 erthland.de/termine/?id=898706
END:VEVENT
END:VCALENDAR
